BEGIN:VCALENDAR
VERSION:2.0
PRODID:-//The Huntley Hotel - ECPv6.15.20//NONSGML v1.0//EN
CALSCALE:GREGORIAN
METHOD:PUBLISH
X-WR-CALNAME:The Huntley Hotel
X-ORIGINAL-URL:https://www.thehuntleyhotel.com
X-WR-CALDESC:Events for The Huntley Hotel
REFRESH-INTERVAL;VALUE=DURATION:PT1H
X-Robots-Tag:noindex
X-PUBLISHED-TTL:PT1H
BEGIN:VTIMEZONE
TZID:UTC
BEGIN:STANDARD
TZOFFSETFROM:+0000
TZOFFSETTO:+0000
TZNAME:UTC
DTSTART:20250101T000000
END:STANDARD
END:VTIMEZONE
BEGIN:VEVENT
DTSTART;TZID=UTC:20260604T070000
DTEND;TZID=UTC:20260604T180000
DTSTAMP:20260425T112016
CREATED:20260120T210817Z
LAST-MODIFIED:20260120T210817Z
UID:10004436-1780556400-1780596000@www.thehuntleyhotel.com
SUMMARY:U.S. Women's Open Championship 2026
DESCRIPTION:One of women’s golf’s most prestigious major championships\, the 2026 U.S. Women’s Open Presented by Ally heads to The Riviera Country Club in Pacific Palisades\, California\, from June 4–7\, 2026. Organized by the United States Golf Association (USGA)\, the U.S. Women’s Open has been the pinnacle of women’s professional golf since its inception in 1946 and is one of the LPGA Tour’s five major championships.
URL:https://www.thehuntleyhotel.com/event/u-s-womans-open-2026-riviera-country-club-golf-womens-golf/2026-06-04/
LOCATION:The Riviera Country Club\, 1250 Capri Dr\, Pacific Palisades\, CA\, 90272\, United States
CATEGORIES:Anytime,Daytime
ATTACH;FMTTYPE=image/jpeg:https://www.thehuntleyhotel.com/wp-content/uploads/2026/01/pexels-kawerodriguess-15376161-scaled.jpg
END:VEVENT
BEGIN:VEVENT
DTSTART;TZID=UTC:20260605T070000
DTEND;TZID=UTC:20260605T180000
DTSTAMP:20260425T112016
CREATED:20260120T210817Z
LAST-MODIFIED:20260120T210817Z
UID:10004437-1780642800-1780682400@www.thehuntleyhotel.com
SUMMARY:U.S. Women's Open Championship 2026
DESCRIPTION:One of women’s golf’s most prestigious major championships\, the 2026 U.S. Women’s Open Presented by Ally heads to The Riviera Country Club in Pacific Palisades\, California\, from June 4–7\, 2026. Organized by the United States Golf Association (USGA)\, the U.S. Women’s Open has been the pinnacle of women’s professional golf since its inception in 1946 and is one of the LPGA Tour’s five major championships.
URL:https://www.thehuntleyhotel.com/event/u-s-womans-open-2026-riviera-country-club-golf-womens-golf/2026-06-05/
LOCATION:The Riviera Country Club\, 1250 Capri Dr\, Pacific Palisades\, CA\, 90272\, United States
CATEGORIES:Anytime,Daytime
ATTACH;FMTTYPE=image/jpeg:https://www.thehuntleyhotel.com/wp-content/uploads/2026/01/pexels-kawerodriguess-15376161-scaled.jpg
END:VEVENT
BEGIN:VEVENT
DTSTART;TZID=UTC:20260606T070000
DTEND;TZID=UTC:20260606T180000
DTSTAMP:20260425T112016
CREATED:20260120T210817Z
LAST-MODIFIED:20260120T210817Z
UID:10004438-1780729200-1780768800@www.thehuntleyhotel.com
SUMMARY:U.S. Women's Open Championship 2026
DESCRIPTION:One of women’s golf’s most prestigious major championships\, the 2026 U.S. Women’s Open Presented by Ally heads to The Riviera Country Club in Pacific Palisades\, California\, from June 4–7\, 2026. Organized by the United States Golf Association (USGA)\, the U.S. Women’s Open has been the pinnacle of women’s professional golf since its inception in 1946 and is one of the LPGA Tour’s five major championships.
URL:https://www.thehuntleyhotel.com/event/u-s-womans-open-2026-riviera-country-club-golf-womens-golf/2026-06-06/
LOCATION:The Riviera Country Club\, 1250 Capri Dr\, Pacific Palisades\, CA\, 90272\, United States
CATEGORIES:Anytime,Daytime
ATTACH;FMTTYPE=image/jpeg:https://www.thehuntleyhotel.com/wp-content/uploads/2026/01/pexels-kawerodriguess-15376161-scaled.jpg
END:VEVENT
BEGIN:VEVENT
DTSTART;TZID=UTC:20260607T070000
DTEND;TZID=UTC:20260607T180000
DTSTAMP:20260425T112016
CREATED:20260120T210817Z
LAST-MODIFIED:20260120T210817Z
UID:10004439-1780815600-1780855200@www.thehuntleyhotel.com
SUMMARY:U.S. Women's Open Championship 2026
DESCRIPTION:One of women’s golf’s most prestigious major championships\, the 2026 U.S. Women’s Open Presented by Ally heads to The Riviera Country Club in Pacific Palisades\, California\, from June 4–7\, 2026. Organized by the United States Golf Association (USGA)\, the U.S. Women’s Open has been the pinnacle of women’s professional golf since its inception in 1946 and is one of the LPGA Tour’s five major championships.
URL:https://www.thehuntleyhotel.com/event/u-s-womans-open-2026-riviera-country-club-golf-womens-golf/2026-06-07/
LOCATION:The Riviera Country Club\, 1250 Capri Dr\, Pacific Palisades\, CA\, 90272\, United States
CATEGORIES:Anytime,Daytime
ATTACH;FMTTYPE=image/jpeg:https://www.thehuntleyhotel.com/wp-content/uploads/2026/01/pexels-kawerodriguess-15376161-scaled.jpg
END:VEVENT
END:VCALENDAR