BEGIN:VCALENDAR
VERSION:2.0
PRODID:-//The Huntley Hotel - ECPv6.15.20//NONSGML v1.0//EN
CALSCALE:GREGORIAN
METHOD:PUBLISH
X-ORIGINAL-URL:https://www.thehuntleyhotel.com
X-WR-CALDESC:Events for The Huntley Hotel
REFRESH-INTERVAL;VALUE=DURATION:PT1H
X-Robots-Tag:noindex
X-PUBLISHED-TTL:PT1H
BEGIN:VTIMEZONE
TZID:UTC
BEGIN:STANDARD
TZOFFSETFROM:+0000
TZOFFSETTO:+0000
TZNAME:UTC
DTSTART:20250101T000000
END:STANDARD
END:VTIMEZONE
BEGIN:VTIMEZONE
TZID:America/Los_Angeles
BEGIN:DAYLIGHT
TZOFFSETFROM:-0800
TZOFFSETTO:-0700
TZNAME:PDT
DTSTART:20250309T100000
END:DAYLIGHT
BEGIN:STANDARD
TZOFFSETFROM:-0700
TZOFFSETTO:-0800
TZNAME:PST
DTSTART:20251102T090000
END:STANDARD
BEGIN:DAYLIGHT
TZOFFSETFROM:-0800
TZOFFSETTO:-0700
TZNAME:PDT
DTSTART:20260308T100000
END:DAYLIGHT
BEGIN:STANDARD
TZOFFSETFROM:-0700
TZOFFSETTO:-0800
TZNAME:PST
DTSTART:20261101T090000
END:STANDARD
BEGIN:DAYLIGHT
TZOFFSETFROM:-0800
TZOFFSETTO:-0700
TZNAME:PDT
DTSTART:20270314T100000
END:DAYLIGHT
BEGIN:STANDARD
TZOFFSETFROM:-0700
TZOFFSETTO:-0800
TZNAME:PST
DTSTART:20271107T090000
END:STANDARD
END:VTIMEZONE
BEGIN:VEVENT
DTSTART;TZID=UTC:20260302T083000
DTEND;TZID=UTC:20260302T133000
DTSTAMP:20260421T125622
CREATED:20251006T232739Z
LAST-MODIFIED:20251006T232739Z
UID:10003823-1772440200-1772458200@www.thehuntleyhotel.com
SUMMARY:Santa Monica Downtown Farmer's Market
DESCRIPTION:Purchase fresh fruits\, vegetables\, handmade products and other comestibles from local farmers.
URL:https://www.thehuntleyhotel.com/event/santa-monica-downtown-farmers-market/2026-03-02/
LOCATION:Arizona Ave between 4th and Ocean\, Arizona Avenue\, Santa Monica\, CA\, 90401\, United States
ATTACH;FMTTYPE=image/jpeg:https://www.thehuntleyhotel.com/wp-content/uploads/2024/04/Santa_Monica_Farmers_Market.jpg
ORGANIZER;CN="Downtown Farmers Market":MAILTO:farmersmarket@santamonica.gov
END:VEVENT
BEGIN:VEVENT
DTSTART;TZID=UTC:20260304T083000
DTEND;TZID=UTC:20260304T133000
DTSTAMP:20260421T125622
CREATED:20250827T142122Z
LAST-MODIFIED:20251006T232620Z
UID:10000887-1772613000-1772631000@www.thehuntleyhotel.com
SUMMARY:Santa Monica Downtown Farmer's Market
DESCRIPTION:Purchase fresh fruits\, vegetables\, handmade products and other comestibles from local farmers.
URL:https://www.thehuntleyhotel.com/event/santa-monica-downtown-farmers-market-2/2026-03-04/
LOCATION:Arizona Ave between 4th and Ocean\, Arizona Avenue\, Santa Monica\, CA\, 90401\, United States
ATTACH;FMTTYPE=image/jpeg:https://www.thehuntleyhotel.com/wp-content/uploads/2024/07/eb57cb1417f17c506232d81c1130fde2.jpg
ORGANIZER;CN="Downtown Farmers Market":MAILTO:farmersmarket@santamonica.gov
END:VEVENT
BEGIN:VEVENT
DTSTART;TZID=America/Los_Angeles:20260305T180000
DTEND;TZID=America/Los_Angeles:20260305T180000
DTSTAMP:20260421T125622
CREATED:20250904T224203Z
LAST-MODIFIED:20260420T204007Z
UID:10001385-1772733600-1772733600@www.thehuntleyhotel.com
SUMMARY:An Elevated Thursday Night: Live Music at The Penthouse
DESCRIPTION:Join us every Thursday from 6:30 PM to 9:30 PM for live music at The Penthouse\, Santa Monica’s premier rooftop dining destination. \nAs the sun sets over the Pacific\, enjoy a curated musical experience paired with handcrafted cocktails\, elevated cuisine\, and panoramic ocean views. Whether you’re planning a night out in Santa Monica or looking for the perfect rooftop ambiance\, The Penthouse delivers an unforgettable evening above it all. \nLive music. Ocean views. Elevated nights in Santa Monica.
URL:https://www.thehuntleyhotel.com/event/santa-monica-live-jazz-penthouse/2026-03-05/
LOCATION:Penthouse Restaurant\, 1111 2nd Street Santa\, Santa Monica\, CA\, 90403
CATEGORIES:Nighttime
ATTACH;FMTTYPE=image/png:https://www.thehuntleyhotel.com/wp-content/uploads/2025/09/Jazz-nights.png
END:VEVENT
BEGIN:VEVENT
DTSTART;TZID=UTC:20260309T083000
DTEND;TZID=UTC:20260309T133000
DTSTAMP:20260421T125622
CREATED:20251006T232739Z
LAST-MODIFIED:20251006T232739Z
UID:10003825-1773045000-1773063000@www.thehuntleyhotel.com
SUMMARY:Santa Monica Downtown Farmer's Market
DESCRIPTION:Purchase fresh fruits\, vegetables\, handmade products and other comestibles from local farmers.
URL:https://www.thehuntleyhotel.com/event/santa-monica-downtown-farmers-market/2026-03-09/
LOCATION:Arizona Ave between 4th and Ocean\, Arizona Avenue\, Santa Monica\, CA\, 90401\, United States
ATTACH;FMTTYPE=image/jpeg:https://www.thehuntleyhotel.com/wp-content/uploads/2024/04/Santa_Monica_Farmers_Market.jpg
ORGANIZER;CN="Downtown Farmers Market":MAILTO:farmersmarket@santamonica.gov
END:VEVENT
BEGIN:VEVENT
DTSTART;TZID=UTC:20260311T083000
DTEND;TZID=UTC:20260311T133000
DTSTAMP:20260421T125622
CREATED:20250827T142122Z
LAST-MODIFIED:20251006T232620Z
UID:10000889-1773217800-1773235800@www.thehuntleyhotel.com
SUMMARY:Santa Monica Downtown Farmer's Market
DESCRIPTION:Purchase fresh fruits\, vegetables\, handmade products and other comestibles from local farmers.
URL:https://www.thehuntleyhotel.com/event/santa-monica-downtown-farmers-market-2/2026-03-11/
LOCATION:Arizona Ave between 4th and Ocean\, Arizona Avenue\, Santa Monica\, CA\, 90401\, United States
ATTACH;FMTTYPE=image/jpeg:https://www.thehuntleyhotel.com/wp-content/uploads/2024/07/eb57cb1417f17c506232d81c1130fde2.jpg
ORGANIZER;CN="Downtown Farmers Market":MAILTO:farmersmarket@santamonica.gov
END:VEVENT
BEGIN:VEVENT
DTSTART;TZID=America/Los_Angeles:20260312T180000
DTEND;TZID=America/Los_Angeles:20260312T180000
DTSTAMP:20260421T125622
CREATED:20250904T224203Z
LAST-MODIFIED:20260420T204007Z
UID:10001386-1773338400-1773338400@www.thehuntleyhotel.com
SUMMARY:An Elevated Thursday Night: Live Music at The Penthouse
DESCRIPTION:Join us every Thursday from 6:30 PM to 9:30 PM for live music at The Penthouse\, Santa Monica’s premier rooftop dining destination. \nAs the sun sets over the Pacific\, enjoy a curated musical experience paired with handcrafted cocktails\, elevated cuisine\, and panoramic ocean views. Whether you’re planning a night out in Santa Monica or looking for the perfect rooftop ambiance\, The Penthouse delivers an unforgettable evening above it all. \nLive music. Ocean views. Elevated nights in Santa Monica.
URL:https://www.thehuntleyhotel.com/event/santa-monica-live-jazz-penthouse/2026-03-12/
LOCATION:Penthouse Restaurant\, 1111 2nd Street Santa\, Santa Monica\, CA\, 90403
CATEGORIES:Nighttime
ATTACH;FMTTYPE=image/png:https://www.thehuntleyhotel.com/wp-content/uploads/2025/09/Jazz-nights.png
END:VEVENT
BEGIN:VEVENT
DTSTART;TZID=UTC:20260316T083000
DTEND;TZID=UTC:20260316T133000
DTSTAMP:20260421T125622
CREATED:20251006T232739Z
LAST-MODIFIED:20251006T232739Z
UID:10003827-1773649800-1773667800@www.thehuntleyhotel.com
SUMMARY:Santa Monica Downtown Farmer's Market
DESCRIPTION:Purchase fresh fruits\, vegetables\, handmade products and other comestibles from local farmers.
URL:https://www.thehuntleyhotel.com/event/santa-monica-downtown-farmers-market/2026-03-16/
LOCATION:Arizona Ave between 4th and Ocean\, Arizona Avenue\, Santa Monica\, CA\, 90401\, United States
ATTACH;FMTTYPE=image/jpeg:https://www.thehuntleyhotel.com/wp-content/uploads/2024/04/Santa_Monica_Farmers_Market.jpg
ORGANIZER;CN="Downtown Farmers Market":MAILTO:farmersmarket@santamonica.gov
END:VEVENT
BEGIN:VEVENT
DTSTART;TZID=UTC:20260318T083000
DTEND;TZID=UTC:20260318T133000
DTSTAMP:20260421T125622
CREATED:20250827T142122Z
LAST-MODIFIED:20251006T232620Z
UID:10000891-1773822600-1773840600@www.thehuntleyhotel.com
SUMMARY:Santa Monica Downtown Farmer's Market
DESCRIPTION:Purchase fresh fruits\, vegetables\, handmade products and other comestibles from local farmers.
URL:https://www.thehuntleyhotel.com/event/santa-monica-downtown-farmers-market-2/2026-03-18/
LOCATION:Arizona Ave between 4th and Ocean\, Arizona Avenue\, Santa Monica\, CA\, 90401\, United States
ATTACH;FMTTYPE=image/jpeg:https://www.thehuntleyhotel.com/wp-content/uploads/2024/07/eb57cb1417f17c506232d81c1130fde2.jpg
ORGANIZER;CN="Downtown Farmers Market":MAILTO:farmersmarket@santamonica.gov
END:VEVENT
BEGIN:VEVENT
DTSTART;TZID=America/Los_Angeles:20260319T180000
DTEND;TZID=America/Los_Angeles:20260319T180000
DTSTAMP:20260421T125622
CREATED:20250904T224203Z
LAST-MODIFIED:20260420T204007Z
UID:10001387-1773943200-1773943200@www.thehuntleyhotel.com
SUMMARY:An Elevated Thursday Night: Live Music at The Penthouse
DESCRIPTION:Join us every Thursday from 6:30 PM to 9:30 PM for live music at The Penthouse\, Santa Monica’s premier rooftop dining destination. \nAs the sun sets over the Pacific\, enjoy a curated musical experience paired with handcrafted cocktails\, elevated cuisine\, and panoramic ocean views. Whether you’re planning a night out in Santa Monica or looking for the perfect rooftop ambiance\, The Penthouse delivers an unforgettable evening above it all. \nLive music. Ocean views. Elevated nights in Santa Monica.
URL:https://www.thehuntleyhotel.com/event/santa-monica-live-jazz-penthouse/2026-03-19/
LOCATION:Penthouse Restaurant\, 1111 2nd Street Santa\, Santa Monica\, CA\, 90403
CATEGORIES:Nighttime
ATTACH;FMTTYPE=image/png:https://www.thehuntleyhotel.com/wp-content/uploads/2025/09/Jazz-nights.png
END:VEVENT
BEGIN:VEVENT
DTSTART;TZID=UTC:20260323T083000
DTEND;TZID=UTC:20260323T133000
DTSTAMP:20260421T125622
CREATED:20251006T232739Z
LAST-MODIFIED:20251006T232739Z
UID:10003829-1774254600-1774272600@www.thehuntleyhotel.com
SUMMARY:Santa Monica Downtown Farmer's Market
DESCRIPTION:Purchase fresh fruits\, vegetables\, handmade products and other comestibles from local farmers.
URL:https://www.thehuntleyhotel.com/event/santa-monica-downtown-farmers-market/2026-03-23/
LOCATION:Arizona Ave between 4th and Ocean\, Arizona Avenue\, Santa Monica\, CA\, 90401\, United States
ATTACH;FMTTYPE=image/jpeg:https://www.thehuntleyhotel.com/wp-content/uploads/2024/04/Santa_Monica_Farmers_Market.jpg
ORGANIZER;CN="Downtown Farmers Market":MAILTO:farmersmarket@santamonica.gov
END:VEVENT
BEGIN:VEVENT
DTSTART;TZID=UTC:20260325T083000
DTEND;TZID=UTC:20260325T133000
DTSTAMP:20260421T125622
CREATED:20250827T142122Z
LAST-MODIFIED:20251006T232620Z
UID:10000893-1774427400-1774445400@www.thehuntleyhotel.com
SUMMARY:Santa Monica Downtown Farmer's Market
DESCRIPTION:Purchase fresh fruits\, vegetables\, handmade products and other comestibles from local farmers.
URL:https://www.thehuntleyhotel.com/event/santa-monica-downtown-farmers-market-2/2026-03-25/
LOCATION:Arizona Ave between 4th and Ocean\, Arizona Avenue\, Santa Monica\, CA\, 90401\, United States
ATTACH;FMTTYPE=image/jpeg:https://www.thehuntleyhotel.com/wp-content/uploads/2024/07/eb57cb1417f17c506232d81c1130fde2.jpg
ORGANIZER;CN="Downtown Farmers Market":MAILTO:farmersmarket@santamonica.gov
END:VEVENT
BEGIN:VEVENT
DTSTART;TZID=America/Los_Angeles:20260326T180000
DTEND;TZID=America/Los_Angeles:20260326T180000
DTSTAMP:20260421T125622
CREATED:20250904T224203Z
LAST-MODIFIED:20260420T204007Z
UID:10001388-1774548000-1774548000@www.thehuntleyhotel.com
SUMMARY:An Elevated Thursday Night: Live Music at The Penthouse
DESCRIPTION:Join us every Thursday from 6:30 PM to 9:30 PM for live music at The Penthouse\, Santa Monica’s premier rooftop dining destination. \nAs the sun sets over the Pacific\, enjoy a curated musical experience paired with handcrafted cocktails\, elevated cuisine\, and panoramic ocean views. Whether you’re planning a night out in Santa Monica or looking for the perfect rooftop ambiance\, The Penthouse delivers an unforgettable evening above it all. \nLive music. Ocean views. Elevated nights in Santa Monica.
URL:https://www.thehuntleyhotel.com/event/santa-monica-live-jazz-penthouse/2026-03-26/
LOCATION:Penthouse Restaurant\, 1111 2nd Street Santa\, Santa Monica\, CA\, 90403
CATEGORIES:Nighttime
ATTACH;FMTTYPE=image/png:https://www.thehuntleyhotel.com/wp-content/uploads/2025/09/Jazz-nights.png
END:VEVENT
BEGIN:VEVENT
DTSTART;TZID=UTC:20260330T083000
DTEND;TZID=UTC:20260330T133000
DTSTAMP:20260421T125622
CREATED:20251006T232739Z
LAST-MODIFIED:20251006T232739Z
UID:10003831-1774859400-1774877400@www.thehuntleyhotel.com
SUMMARY:Santa Monica Downtown Farmer's Market
DESCRIPTION:Purchase fresh fruits\, vegetables\, handmade products and other comestibles from local farmers.
URL:https://www.thehuntleyhotel.com/event/santa-monica-downtown-farmers-market/2026-03-30/
LOCATION:Arizona Ave between 4th and Ocean\, Arizona Avenue\, Santa Monica\, CA\, 90401\, United States
ATTACH;FMTTYPE=image/jpeg:https://www.thehuntleyhotel.com/wp-content/uploads/2024/04/Santa_Monica_Farmers_Market.jpg
ORGANIZER;CN="Downtown Farmers Market":MAILTO:farmersmarket@santamonica.gov
END:VEVENT
END:VCALENDAR